BEGIN:VCALENDAR
VERSION:2.0
PRODID:-//Moora Race Club - ECPv6.14.1//NONSGML v1.0//EN
CALSCALE:GREGORIAN
METHOD:PUBLISH
X-ORIGINAL-URL:https://mooraraceclub.com.au
X-WR-CALDESC:Events for Moora Race Club
REFRESH-INTERVAL;VALUE=DURATION:PT1H
X-Robots-Tag:noindex
X-PUBLISHED-TTL:PT1H
BEGIN:VTIMEZONE
TZID:Australia/Perth
BEGIN:STANDARD
TZOFFSETFROM:+0800
TZOFFSETTO:+0800
TZNAME:AWST
DTSTART:20240101T000000
END:STANDARD
END:VTIMEZONE
BEGIN:VEVENT
DTSTART;TZID=Australia/Perth:20251004T120000
DTEND;TZID=Australia/Perth:20251004T200000
DTSTAMP:20260424T204752
CREATED:20250719T064445Z
LAST-MODIFIED:20250719T064445Z
UID:1239-1759579200-1759608000@mooraraceclub.com.au
SUMMARY:2025 - Moora Toyota Moora Cup
DESCRIPTION:Moora Toyota\, Moora Cup\n \nSaturday 4th October 2025 \n       Gates Open: TBC \n       First Race: TBC \nGate fee: $20.00 \n       DJ after the last Race \nBecome a Sponsor – 2025 Sponsorship Package
URL:https://mooraraceclub.com.au/event/2025-moora-toyota-moora-cup/
LOCATION:Moora Race Club\, Ferguson Road\, Moora WA 6510
ATTACH;FMTTYPE=image/jpeg:https://mooraraceclub.com.au/wp-content/uploads/2025/07/Cup-winner-e1752906582176.jpg
END:VEVENT
BEGIN:VEVENT
DTSTART;TZID=Australia/Perth:20241005T123000
DTEND;TZID=Australia/Perth:20241005T200000
DTSTAMP:20260424T204752
CREATED:20240801T065247Z
LAST-MODIFIED:20240801T065813Z
UID:988-1728131400-1728158400@mooraraceclub.com.au
SUMMARY:2024 Moora Toyota\, Moora Cup
DESCRIPTION:Moora Toyota\, Moora Cup\n\nSaturday 5th October 2024 \n       Gates Open: TBC \nFirst Race: TBC \nGate fee: $20.00 \nBecome a Sponsor – 2024 Sponsorship Package \n       DJ after the last race
URL:https://mooraraceclub.com.au/event/2024-moora-toyota-moora-cup/
LOCATION:Moora Race Club\, Ferguson Road\, Moora WA 6510
ATTACH;FMTTYPE=image/jpeg:https://mooraraceclub.com.au/wp-content/uploads/2024/07/Moora-Cup-Day_07-10-2023_WIN_.jpg
END:VEVENT
END:VCALENDAR